BEGIN:VCALENDAR
VERSION:2.0
PRODID:-//ChamberMaster//Event Calendar 2.0//EN
METHOD:PUBLISH
X-PUBLISHED-TTL:P3D
REFRESH-INTERVAL:P3D
CALSCALE:GREGORIAN
BEGIN:VEVENT
DTSTART:20260326T130000Z
DTEND:20260327T000000Z
X-MICROSOFT-CDO-ALLDAYEVENT:FALSE
SUMMARY:58th Annual Lamar County Junior Livestock Show
DESCRIPTION:8 am - Market Boat Show\, 11 am - Market Lamb Show\, 2 pm - Market Hog Show\, 6 pm - Parade of Future Exhibitors\,  7 pm - Market Steer Show
X-ALT-DESC;FMTTYPE=text/html:8 am - Market Boat Show\, 11 am - Market Lamb Show\, 2 pm - Market Hog Show\, 6 pm - Parade of Future Exhibitors\,&nbsp\; 7 pm - Market Steer Show
LOCATION:
UID:e.1675.19708
SEQUENCE:3
DTSTAMP:20260424T092847Z
URL:http://business.paristexas.com/events/details/58th-annual-lamar-county-junior-livestock-show-19708
END:VEVENT

END:VCALENDAR
