BEGIN:VCALENDAR
VERSION:2.0
PRODID:-//ChamberMaster//Event Calendar 2.0//EN
METHOD:PUBLISH
X-PUBLISHED-TTL:P3D
REFRESH-INTERVAL:P3D
CALSCALE:GREGORIAN
BEGIN:VEVENT
DTSTART:20260327T130000Z
DTEND:20260327T234500Z
X-MICROSOFT-CDO-ALLDAYEVENT:FALSE
SUMMARY:58th Annual Lamar County Junior Livestock Show
DESCRIPTION:9 am - Breeding Beef Show\, 5:30 pm - Buyer Appreciation Supper\,\n\n6:45 pm - Market Animal Sale begins
X-ALT-DESC;FMTTYPE=text/html:9 am - Breeding Beef Show\, 5:30 pm - Buyer Appreciation Supper\,<br />\n6:45 pm - Market Animal Sale begins
LOCATION:
UID:e.1675.19709
SEQUENCE:3
DTSTAMP:20260424T092847Z
URL:http://business.paristexas.com/events/details/58th-annual-lamar-county-junior-livestock-show-19709
END:VEVENT

END:VCALENDAR
