BEGIN:VCALENDAR
VERSION:2.0
PRODID:-//ChamberMaster//Event Calendar 2.0//EN
METHOD:PUBLISH
X-PUBLISHED-TTL:P3D
REFRESH-INTERVAL:P3D
CALSCALE:GREGORIAN
BEGIN:VEVENT
DTSTART:20260325T170000Z
DTEND:20260325T220000Z
X-MICROSOFT-CDO-ALLDAYEVENT:FALSE
SUMMARY:58th Annual Lamar County Junior Livestock Show Opens
DESCRIPTION:Noon - Boiler Show\, 12:30 - Ag Mechanics Show\, 2 pm - Rabbit Show\, 4 pm - Speech Contest\, 5 pm - Floral Cup
X-ALT-DESC;FMTTYPE=text/html:Noon - Boiler Show\, 12:30 - Ag Mechanics Show\, 2 pm - Rabbit Show\, 4 pm - Speech Contest\, 5 pm - Floral Cup
LOCATION:Red River Valley Fairgrounds
UID:e.1675.19707
SEQUENCE:3
DTSTAMP:20260424T092816Z
URL:http://business.paristexas.com/events/details/58th-annual-lamar-county-junior-livestock-show-opens-19707
END:VEVENT

END:VCALENDAR
