BEGIN:VCALENDAR
VERSION:2.0
PRODID:-//ChamberMaster//Event Calendar 2.0//EN
METHOD:PUBLISH
X-PUBLISHED-TTL:P3D
REFRESH-INTERVAL:P3D
CALSCALE:GREGORIAN
BEGIN:VEVENT
DTSTART:20260428T133000Z
DTEND:20260429T023000Z
X-MICROSOFT-CDO-ALLDAYEVENT:FALSE
SUMMARY:CUTX Presents COFFEE with RSVP
DESCRIPTION:Join CUTX in downtown Paris for Coffee with RSVP.  Enjoy free Paris Coffee and breakfast pastries as we learn all about RSVP and the great things they do for our community.
X-ALT-DESC;FMTTYPE=text/html:Join CUTX in downtown Paris for Coffee with RSVP.&nbsp\; Enjoy free Paris Coffee and breakfast pastries as we learn all about RSVP and the great things they do for our community.&nbsp\;
LOCATION:CUTX\, 11 South Plaza\, Downtown Paris
UID:e.1675.20111
SEQUENCE:3
DTSTAMP:20260423T000922Z
URL:http://business.paristexas.com/events/details/cutx-presents-coffee-with-rsvp-20111
END:VEVENT

END:VCALENDAR
