BEGIN:VCALENDAR
VERSION:2.0
PRODID:-//ChamberMaster//Event Calendar 2.0//EN
METHOD:PUBLISH
X-PUBLISHED-TTL:P3D
REFRESH-INTERVAL:P3D
CALSCALE:GREGORIAN
BEGIN:VEVENT
DTSTART:20260528T163000Z
DTEND:20260528T170000Z
X-MICROSOFT-CDO-ALLDAYEVENT:FALSE
SUMMARY:Direct Auto Insurance Ribbon Cutting
DESCRIPTION:Please join us as we celebrate a milestone for Direct Auto Insurance. The ribbon cutting will be held at their location\, 3605 NE Loop 286\, Ste 800 Paris Texas 75460. Please remember to bring your business cards for this networking opportunity.
X-ALT-DESC;FMTTYPE=text/html:<span style="color: rgb(51\, 51\, 51)\; font-family: sans-serif\, Arial\, Verdana\, &quot\;Trebuchet MS&quot\;\; font-size: 13px\; background-color: rgb(255\, 255\, 255)\;">Please join us as we celebrate a milestone for Direct Auto Insurance. The ribbon cutting will be held at their location\, 3605 NE Loop 286\, Ste 800 Paris Texas 75460. Please remember to bring your business cards for this networking opportunity.&nbsp\;</span>
LOCATION:3605 NE Loop 286\, Ste 800
UID:e.1675.20107
SEQUENCE:3
DTSTAMP:20260423T043312Z
URL:http://business.paristexas.com/events/details/direct-auto-insurance-ribbon-cutting-20107
END:VEVENT

END:VCALENDAR
