BEGIN:VCALENDAR
VERSION:2.0
PRODID:-//ChamberMaster//Event Calendar 2.0//EN
METHOD:PUBLISH
X-PUBLISHED-TTL:P3D
REFRESH-INTERVAL:P3D
CALSCALE:GREGORIAN
BEGIN:VEVENT
DTSTART:20260712T000000Z
DTEND:20260712T030000Z
X-MICROSOFT-CDO-ALLDAYEVENT:FALSE
SUMMARY:Gene Watson & Moe Bandy Living Legends Concert
DESCRIPTION:Two country music legends come together for an evening of classic hits!\n\n\n\nAt Love Civic Center - Paris Tx\n\n\n\nGet Tickets Here: Gene Watson & Moe Bandy Living Legends Concert Tickets\, Sat\, Jul 11\, 2026 at 7:00 PM | Eventbrite
X-ALT-DESC;FMTTYPE=text/html:<span style="color: rgb(88\, 81\, 99)\; font-family: &quot\;Neue Plak&quot\;\, -apple-system\, BlinkMacSystemFont\, Roboto\, &quot\;Helvetica Neue&quot\;\, Helvetica\, Tahoma\, Arial\, sans-serif\; font-size: 18px\; letter-spacing: 0.1px\;">Two country music legends come together for an evening of classic hits!<br />\n<br />\nAt Love Civic Center - Paris Tx<br />\n<br />\nGet Tickets Here:&nbsp\;</span><a href="https://www.eventbrite.com/e/gene-watson-moe-bandy-living-legends-concert-tickets-1982853016750?aff=oddtdtcreator">Gene Watson &amp\; Moe Bandy Living Legends Concert Tickets\, Sat\, Jul 11\, 2026 at 7:00 PM | Eventbrite</a>
LOCATION:
UID:e.1675.19701
SEQUENCE:3
DTSTAMP:20260424T183019Z
URL:http://business.paristexas.com/events/details/gene-watson-moe-bandy-living-legends-concert-19701
END:VEVENT

END:VCALENDAR
