BEGIN:VCALENDAR
VERSION:2.0
PRODID:-//ChamberMaster//Event Calendar 2.0//EN
METHOD:PUBLISH
X-PUBLISHED-TTL:P3D
REFRESH-INTERVAL:P3D
CALSCALE:GREGORIAN
BEGIN:VEVENT
DTSTART:20240314T163000Z
DTEND:20240314T170000Z
X-MICROSOFT-CDO-ALLDAYEVENT:FALSE
SUMMARY:Globe Life Family Heritage Ribbon Cutting
DESCRIPTION:Join the Lamar County Chamber of Commerce as we cut the membership ribbon for New Member\,  Globe Life Family Heritage and meet the Territory Manager\, Jennifer Mauch. This ribbon cutting will be at the Chamber Office.\n\nRemember to bring your business cards for this networking opportunity.
X-ALT-DESC;FMTTYPE=text/html:Join the Lamar County Chamber of Commerce as we cut the membership ribbon for New Member\,&nbsp\;&nbsp\;<u><strong>Globe Life Family Heritage</strong></u> and meet the Territory Manager\, Jennifer Mauch. This ribbon cutting will be at the Chamber Office.<br />\nRemember to bring your business cards for this networking opportunity.<br />\n&nbsp\;
LOCATION:
UID:e.1675.18323
SEQUENCE:3
DTSTAMP:20260424T084129Z
URL:http://business.paristexas.com/events/details/globe-life-family-heritage-ribbon-cutting-18323
END:VEVENT

END:VCALENDAR
