BEGIN:VCALENDAR
VERSION:2.0
PRODID:-//ChamberMaster//Event Calendar 2.0//EN
METHOD:PUBLISH
X-PUBLISHED-TTL:P3D
REFRESH-INTERVAL:P3D
CALSCALE:GREGORIAN
BEGIN:VEVENT
DTSTART:20260627T163000Z
DTEND:20260627T170000Z
X-MICROSOFT-CDO-ALLDAYEVENT:FALSE
SUMMARY:Happy Trailers Grand Opening Ribbon Cutting
DESCRIPTION:Please join us as we cut a ribbon for the Grand Opening of Happy Trailers. The ribbon cutting will be held at 550 NE Loop 286\, Paris Texas 75460. Please remember to bring your business cards for this networking opportunity.
X-ALT-DESC;FMTTYPE=text/html:<span style="color: rgb(51\, 51\, 51)\; font-family: sans-serif\, Arial\, Verdana\, &quot\;Trebuchet MS&quot\;\; font-size: 13px\; background-color: rgb(255\, 255\, 255)\;">Please join us as we cut a ribbon for the Grand Opening of Happy Trailers. The ribbon cutting will be held at 550 NE Loop 286\, Paris Texas 75460. Please remember to bring your business cards for this networking opportunity.&nbsp\;</span>
LOCATION:550 NE Loop 286
UID:e.1675.20105
SEQUENCE:3
DTSTAMP:20260423T025454Z
URL:http://business.paristexas.com/events/details/happy-trailers-grand-opening-ribbon-cutting-20105
END:VEVENT

END:VCALENDAR
