BEGIN:VCALENDAR
VERSION:2.0
PRODID:-//ChamberMaster//Event Calendar 2.0//EN
METHOD:PUBLISH
X-PUBLISHED-TTL:P3D
REFRESH-INTERVAL:P3D
CALSCALE:GREGORIAN
BEGIN:VEVENT
DTSTART:20200317T230000Z
DTEND:20200318T010000Z
X-MICROSOFT-CDO-ALLDAYEVENT:FALSE
SUMMARY:"High Strung Bluegrass"
DESCRIPTION:Entertainment for your pleasure
X-ALT-DESC;FMTTYPE=text/html:Entertainment for your pleasure
LOCATION:18 West Hearne St.\, Paris\, Tx. (Next to South Main Cafe)
UID:e.1675.9561
SEQUENCE:3
DTSTAMP:20260425T191346Z
URL:http://business.paristexas.com/events/details/high-strung-bluegrass-03-17-2020-9561
END:VEVENT

END:VCALENDAR
