BEGIN:VCALENDAR
VERSION:2.0
PRODID:-//ChamberMaster//Event Calendar 2.0//EN
METHOD:PUBLISH
X-PUBLISHED-TTL:P3D
REFRESH-INTERVAL:P3D
CALSCALE:GREGORIAN
BEGIN:VEVENT
DTSTART:20241102T190000Z
DTEND:20241102T200000Z
X-MICROSOFT-CDO-ALLDAYEVENT:FALSE
SUMMARY:Historic Neighborhood Tour (Afternoon)
DESCRIPTION:Join us on November 2 at 2:00 pm for a walking tour around the neighborhood\, highlighting historic homes\, who lived in them\, and their architectural features. It's a perfect opportunity for history enthusiasts to engage in the history of Church St. Be sure to register for the program! Registration is required to secure your spot. The program is $10 per person. For more information\, feel free to contact Elana at 903-785-5716 or elana.barton@thc.texas.gov. Don't forget to dress appropriately\, such as wearing comfortable shoes for walking or arriving a few minutes early for check-in\, before attending. We look forward to seeing you there and making it an informative event!
X-ALT-DESC;FMTTYPE=text/html:Join us on November 2 at 2:00 pm for a walking tour around the neighborhood\, highlighting historic homes\, who lived in them\, and their architectural features. It&#39\;s a perfect opportunity for history enthusiasts to engage in the history of Church St. Be sure to register for the program! Registration is required to secure your spot. The program is $10 per person. For more information\, feel free to contact Elana at 903-785-5716 or elana.barton@thc.texas.gov. Don&#39\;t forget to dress appropriately\, such as wearing comfortable shoes for walking or arriving a few minutes early for check-in\, before attending. We look forward to seeing you there and making it an informative event!
LOCATION:Sam Bell Maxey House 812 South Church St Paris\, TX 75460
UID:e.1675.18952
SEQUENCE:3
DTSTAMP:20260423T234417Z
URL:http://business.paristexas.com/events/details/historic-neighborhood-tour-afternoon-18952
END:VEVENT

END:VCALENDAR
