BEGIN:VCALENDAR
VERSION:2.0
PRODID:-//ChamberMaster//Event Calendar 2.0//EN
METHOD:PUBLISH
X-PUBLISHED-TTL:P3D
REFRESH-INTERVAL:P3D
CALSCALE:GREGORIAN
BEGIN:VEVENT
DTSTART:20240213T160000Z
DTEND:20240213T163000Z
X-MICROSOFT-CDO-ALLDAYEVENT:FALSE
SUMMARY:Hole in the Wall\, 20th Anniversary and New Ownership Announcement\, Ribbon Cutting
DESCRIPTION:Join the Lamar County Chamber of Commerce as we cut the Membership Ribbon\, Celebrating with Hole in the Wall on their 20th Anniversary\, and Announcing new Owner\, Cayton Flippen.  The address for this event is 202 3rd St. NW.  Remember to bring your business card for this networking opportunity.
X-ALT-DESC;FMTTYPE=text/html:Join the Lamar County Chamber of Commerce as we cut the Membership Ribbon\, Celebrating with <u><strong>Hole in the Wall</strong></u> on their 20th Anniversary\, and Announcing new Owner\, Cayton Flippen.&nbsp\; The address for this event is 202 3rd St. NW.&nbsp\; Remember to bring your business card for this networking opportunity.&nbsp\;
LOCATION:
UID:e.1675.18295
SEQUENCE:3
DTSTAMP:20260424T102632Z
URL:http://business.paristexas.com/events/details/hole-in-the-wall-20th-anniversary-and-new-ownership-announcement-ribbon-cutting-18295
END:VEVENT

END:VCALENDAR
