BEGIN:VCALENDAR
VERSION:2.0
PRODID:-//ChamberMaster//Event Calendar 2.0//EN
METHOD:PUBLISH
X-PUBLISHED-TTL:P3D
REFRESH-INTERVAL:P3D
CALSCALE:GREGORIAN
BEGIN:VEVENT
DTSTART:20260503T190000Z
DTEND:20260503T210000Z
X-MICROSOFT-CDO-ALLDAYEVENT:FALSE
SUMMARY:John Conlee Live at Love Civic Center
DESCRIPTION:Don't miss your chance to see the "Common Man" Mr. John Conlee in full concert at Love Civic Center on May 3rd at 2 pm!\n\n\n\nGet tickets Here: John Conlee Live at Love Civic Center - Paris\, TX Tickets\, Sun\, May 3\, 2026 at 2:00 PM | Eventbrite
X-ALT-DESC;FMTTYPE=text/html:<span style="color: rgb(88\, 81\, 99)\; font-family: &quot\;Neue Plak&quot\;\, -apple-system\, BlinkMacSystemFont\, Roboto\, &quot\;Helvetica Neue&quot\;\, Helvetica\, Tahoma\, Arial\, sans-serif\; font-size: 18px\; letter-spacing: 0.1px\;">Don&rsquo\;t miss your chance to see the &ldquo\;Common Man&rdquo\; Mr. John Conlee in full concert at Love Civic Center on May 3rd at 2 pm!<br />\n<br />\nGet tickets Here:&nbsp\;</span><a href="https://www.eventbrite.com/e/john-conlee-live-at-love-civic-center-paris-tx-tickets-1979370173472?aff=ebdssbdestsearch">John Conlee Live at Love Civic Center - Paris\, TX Tickets\, Sun\, May 3\, 2026 at 2:00 PM | Eventbrite</a>
LOCATION:
UID:e.1675.19700
SEQUENCE:3
DTSTAMP:20260424T125928Z
URL:http://business.paristexas.com/events/details/john-conlee-live-at-love-civic-center-19700
END:VEVENT

END:VCALENDAR
