BEGIN:VCALENDAR
VERSION:2.0
PRODID:-//ChamberMaster//Event Calendar 2.0//EN
METHOD:PUBLISH
X-PUBLISHED-TTL:P3D
REFRESH-INTERVAL:P3D
CALSCALE:GREGORIAN
BEGIN:VEVENT
DTSTART:20240312T153000Z
DTEND:20240313T040000Z
X-MICROSOFT-CDO-ALLDAYEVENT:FALSE
SUMMARY:Kountry Kitchen Ribbon Cutting
DESCRIPTION:Join the Lamar County Chamber of Commerce as we cut the Ribbon for New Chamber Member\, Kountry Kitchen located at 110 Front St\, Blossom Texas. Remember to bring your business card for this networking opportunity.
X-ALT-DESC;FMTTYPE=text/html:Join the Lamar County Chamber of Commerce as we cut the Ribbon for New Chamber Member\, Kountry Kitchen located at 110 Front St\, Blossom Texas. Remember to bring your business card for this networking opportunity.&nbsp\;
LOCATION:
UID:e.1675.18311
SEQUENCE:3
DTSTAMP:20260424T083950Z
URL:http://business.paristexas.com/events/details/kountry-kitchen-ribbon-cutting-18311
END:VEVENT

END:VCALENDAR
