BEGIN:VCALENDAR
VERSION:2.0
PRODID:-//ChamberMaster//Event Calendar 2.0//EN
METHOD:PUBLISH
X-PUBLISHED-TTL:P3D
REFRESH-INTERVAL:P3D
CALSCALE:GREGORIAN
BEGIN:VEVENT
DTSTART:20260321T140000Z
DTEND:20260321T170000Z
X-MICROSOFT-CDO-ALLDAYEVENT:FALSE
SUMMARY:Leadership Kick Ball Tournament
DESCRIPTION:Hosted by Leadership Lamar County\n\nTournament will be held on the softball fields behind the Love Civic Center.\n\nJoin in for this fun time together!\n\n$350 for a Team and Banner\n\n$300 for a Team\n\n$100 for a Banner\n\n10-12 Per Team\n\nMust be 16 or older\n\nLimited Spots Available. \n\nMail entries to Leadership Lamar County \n\nP.O. Box 1875\, Paris\, Tx. 75461
X-ALT-DESC;FMTTYPE=text/html:Hosted by Leadership Lamar County<br />\nTournament will be held on the softball fields behind the Love Civic Center.<br />\nJoin in for this fun time together!<br />\n$350 for a Team and Banner<br />\n$300 for a Team<br />\n$100 for a Banner<br />\n10-12 Per Team<br />\nMust be 16 or older<br />\nLimited Spots Available.&nbsp\;<br />\nMail entries to Leadership Lamar County&nbsp\;<br />\nP.O. Box 1875\, Paris\, Tx. 75461
LOCATION:
UID:e.1675.19724
SEQUENCE:3
DTSTAMP:20260423T070750Z
URL:http://business.paristexas.com/events/details/leadership-kick-ball-tournament-19724
END:VEVENT

END:VCALENDAR
