BEGIN:VCALENDAR
VERSION:2.0
PRODID:-//ChamberMaster//Event Calendar 2.0//EN
METHOD:PUBLISH
X-PUBLISHED-TTL:P3D
REFRESH-INTERVAL:P3D
CALSCALE:GREGORIAN
BEGIN:VEVENT
DTSTART:20250107T170000Z
DTEND:20250107T173000Z
X-MICROSOFT-CDO-ALLDAYEVENT:FALSE
SUMMARY:Melissa Jones Studios - Ribbon Cutting
DESCRIPTION:Join the Lamar Chamber of Commerce as we cut the ribbon for Owner\, Melissa Jones\,  Melissa Jones Studios.  Their location is 4605 Lamar Ave.  Remember to bring your business card for this networking opportunity.
X-ALT-DESC;FMTTYPE=text/html:<span style="color: rgb(51\, 51\, 51)\; font-family: sans-serif\, Arial\, Verdana\, &quot\;Trebuchet MS&quot\;\; font-size: 13px\; background-color: rgb(255\, 255\, 255)\;">Join the Lamar Chamber of Commerce as we cut the ribbon for Owner\, Melissa Jones\,&nbsp\; Melissa Jones Studios.&nbsp\; Their location is 4605 Lamar Ave.&nbsp\; Remember to bring your business card for this networking opportunity.&nbsp\;</span>
LOCATION:
UID:e.1675.19037
SEQUENCE:3
DTSTAMP:20260423T211228Z
URL:http://business.paristexas.com/events/details/melissa-jones-studios-ribbon-cutting-19037
END:VEVENT

END:VCALENDAR
