BEGIN:VCALENDAR
VERSION:2.0
PRODID:-//ChamberMaster//Event Calendar 2.0//EN
METHOD:PUBLISH
X-PUBLISHED-TTL:P3D
REFRESH-INTERVAL:P3D
CALSCALE:GREGORIAN
BEGIN:VEVENT
DTSTART:20200525T153000Z
DTEND:20200525T170000Z
X-MICROSOFT-CDO-ALLDAYEVENT:FALSE
SUMMARY:Memorial Day Observation
DESCRIPTION:Sponsored by the Red River Valley Veterans.\n\nPatriotic music starting at 10:30 am under the Pavilion located at the Love Civic Center. Presentation of the Flags by the Boys Scouts\, Troup 2.\n\nSpeaker is Father Craig Reed a Navy Veteran. When the speaker finishes the ceremony will be concluded by the laying of the wreath at the memorial.
X-ALT-DESC;FMTTYPE=text/html:Sponsored by the Red River Valley Veterans.<br />\nPatriotic music starting at 10:30 am under the Pavilion located at the Love Civic Center. Presentation of the Flags by the Boys Scouts\, Troup 2.<br />\nSpeaker is Father Craig Reed a Navy Veteran. When the speaker finishes the ceremony will be concluded by the laying of the wreath at the memorial.<br />\n<br />\n&nbsp\;
LOCATION:
UID:e.1675.16510
SEQUENCE:3
DTSTAMP:20260420T123724Z
URL:http://business.paristexas.com/events/details/memorial-day-observation-16510
END:VEVENT

END:VCALENDAR
