BEGIN:VCALENDAR
VERSION:2.0
PRODID:-//ChamberMaster//Event Calendar 2.0//EN
METHOD:PUBLISH
X-PUBLISHED-TTL:P3D
REFRESH-INTERVAL:P3D
CALSCALE:GREGORIAN
BEGIN:VEVENT
DTSTART:20260609T163000Z
DTEND:20260609T170000Z
X-MICROSOFT-CDO-ALLDAYEVENT:FALSE
SUMMARY:Ribbon Cutting for Apex Supply Company
DESCRIPTION:Please join us as we welcome new chamber member\, Apex Supply Company. The ribbon cutting will be held at 1680 NE Loop 286\, Paris Texas 75460. Please remember to bring your business cards for this networking opportunity.
X-ALT-DESC;FMTTYPE=text/html:Please join us as we welcome new chamber member\, Apex Supply Company. The ribbon cutting will be held at 1680 NE Loop 286\, Paris Texas 75460. Please remember to bring your business cards for this networking opportunity.&nbsp\;
LOCATION:1680 NE Loop 286
UID:e.1675.20104
SEQUENCE:3
DTSTAMP:20260423T025453Z
URL:http://business.paristexas.com/events/details/ribbon-cutting-for-apex-supply-company-20104
END:VEVENT

END:VCALENDAR
