BEGIN:VCALENDAR
VERSION:2.0
PRODID:-//ChamberMaster//Event Calendar 2.0//EN
METHOD:PUBLISH
X-PUBLISHED-TTL:P3D
REFRESH-INTERVAL:P3D
CALSCALE:GREGORIAN
BEGIN:VEVENT
DTSTART:20240815T170000Z
DTEND:20240815T180000Z
X-MICROSOFT-CDO-ALLDAYEVENT:FALSE
SUMMARY:Rotary Club of Paris United
DESCRIPTION:Guests are welcome
X-ALT-DESC;FMTTYPE=text/html:Guests are welcome
LOCATION:Paris Conference & Event Center (Home2 Suites)\, located at 3143 NE Loop 286
UID:e.1675.18601
SEQUENCE:3
DTSTAMP:20260423T233854Z
URL:http://business.paristexas.com/events/details/rotary-club-of-paris-united-08-15-2024-18601
END:VEVENT

END:VCALENDAR
