BEGIN:VCALENDAR
VERSION:2.0
PRODID:-//ChamberMaster//Event Calendar 2.0//EN
METHOD:PUBLISH
X-PUBLISHED-TTL:P3D
REFRESH-INTERVAL:P3D
CALSCALE:GREGORIAN
BEGIN:VEVENT
DTSTART:20260328T150000Z
DTEND:20260328T210000Z
X-MICROSOFT-CDO-ALLDAYEVENT:FALSE
SUMMARY:Sam Bell Maxey House Art Day
DESCRIPTION:FREE EVENT!\n\nAll Artists Welcome!\n\nMediums Allowed Inside:\n\nGraphite Pencils\, Pens\, Crayons (Crayola-type) and Photography\n\nSupplies not provided by the Maxey House.\n\n\n\nMediums Not Allowed Inside:\n\nConte'\, Charcoal\, Paint\n\nMediums Allowed Outside:\n\nEverything!
X-ALT-DESC;FMTTYPE=text/html:<p>FREE EVENT!<br />\nAll Artists Welcome!<br />\nMediums Allowed Inside:<br />\nGraphite Pencils\, Pens\, Crayons (Crayola-type) and Photography<br />\nSupplies not&nbsp\;provided by the Maxey House.<br />\n<br />\nMediums Not Allowed Inside:<br />\nConte&#39\;\, Charcoal\, Paint<br />\nMediums Allowed Outside:<br />\nEverything!</p>\n
LOCATION:Sam Bell Maxey House SHS 812 South Church St\, Paris\, Tx.
UID:e.1675.19715
SEQUENCE:3
DTSTAMP:20260423T070415Z
URL:http://business.paristexas.com/events/details/sam-bell-maxey-house-art-day-19715
END:VEVENT

END:VCALENDAR
