BEGIN:VCALENDAR
VERSION:2.0
PRODID:-//ChamberMaster//Event Calendar 2.0//EN
METHOD:PUBLISH
X-PUBLISHED-TTL:P3D
REFRESH-INTERVAL:P3D
CALSCALE:GREGORIAN
BEGIN:VEVENT
DTSTART:20220929T163000Z
DTEND:20220929T170000Z
X-MICROSOFT-CDO-ALLDAYEVENT:FALSE
SUMMARY:Simply Formed Ribbon Cutting
DESCRIPTION:Join the Lamar County Chamber of Commerce as we cut the Red Ribbon for new Chamber Member Simply Formed and meet the owners Cambra and Kaleigh.  The address for this ribbon cutting is 2705 Clarksville Street. Remember to bring your business cards for this networking opportunity.
X-ALT-DESC;FMTTYPE=text/html:<span style="font-size:16px\;">Join the Lamar County Chamber of Commerce as we cut the Red Ribbon for new Chamber Member Simply Formed and meet the owners Cambra and Kaleigh.&nbsp\; The address for this ribbon cutting is 2705 Clarksville Street. Remember to bring your business cards for this networking opportunity.&nbsp\;</span>
LOCATION:
UID:e.1675.17556
SEQUENCE:3
DTSTAMP:20260424T104322Z
URL:http://business.paristexas.com/events/details/simply-formed-ribbon-cutting-17556
END:VEVENT

END:VCALENDAR
