BEGIN:VCALENDAR
VERSION:2.0
PRODID:-//ChamberMaster//Event Calendar 2.0//EN
METHOD:PUBLISH
X-PUBLISHED-TTL:P3D
REFRESH-INTERVAL:P3D
CALSCALE:GREGORIAN
BEGIN:VEVENT
DTSTART:20241212T173000Z
DTEND:20241212T190000Z
X-MICROSOFT-CDO-ALLDAYEVENT:FALSE
SUMMARY:Small Business Lunch and Learn
DESCRIPTION:Join CUTX and the Lamar County Chamber of Commerce for a lunch and learn on preparing a business loan.  Discover essential tips to get your business loan-ready while connecting with fellow small business owners and gaining valuable insights.  Don't miss this opportunity to set your business up for success.
X-ALT-DESC;FMTTYPE=text/html:Join CUTX and the Lamar County Chamber of Commerce for a lunch and learn on preparing a business loan.&nbsp\; Discover essential tips to get your business loan-ready while connecting with fellow small business owners and gaining valuable insights.&nbsp\; Don&#39\;t miss this opportunity to set your business up for success.&nbsp\;
LOCATION:Love Civic Center
UID:e.1675.19015
SEQUENCE:3
DTSTAMP:20260423T195054Z
URL:http://business.paristexas.com/events/details/small-business-lunch-and-learn-19015
END:VEVENT

END:VCALENDAR
