BEGIN:VCALENDAR
VERSION:2.0
PRODID:-//ChamberMaster//Event Calendar 2.0//EN
METHOD:PUBLISH
X-PUBLISHED-TTL:P3D
REFRESH-INTERVAL:P3D
CALSCALE:GREGORIAN
BEGIN:VEVENT
DTSTART:20260118T000000Z
DTEND:20260118T020000Z
X-MICROSOFT-CDO-ALLDAYEVENT:FALSE
SUMMARY:Snowflakes & Diamonds Gala benefiting the RRVDSS and The Reach Center
DESCRIPTION:Hosted by Red River Valley Down Syndrome Society and The REACH Center at Love Civic Center. \n\n\n\nFeaturing Mix Society & Scholl Bro's BBQ\n\n\n\nFOR TICKETS: INFO@RRVDSS.ORG
X-ALT-DESC;FMTTYPE=text/html:Hosted by Red River Valley Down Syndrome Society and The REACH Center at Love Civic Center.&nbsp\;<br />\n<br />\nFeaturing Mix Society &amp\; Scholl Bro&#39\;s BBQ<br />\n<br />\nFOR TICKETS: INFO@RRVDSS.ORG
LOCATION:
UID:e.1675.19638
SEQUENCE:3
DTSTAMP:20260424T131513Z
URL:http://business.paristexas.com/events/details/snowflakes-diamonds-gala-benefiting-the-rrvdss-and-the-reach-center-19638
END:VEVENT

END:VCALENDAR
