BEGIN:VCALENDAR
VERSION:2.0
PRODID:-//ChamberMaster//Event Calendar 2.0//EN
METHOD:PUBLISH
X-PUBLISHED-TTL:P3D
REFRESH-INTERVAL:P3D
CALSCALE:GREGORIAN
BEGIN:VEVENT
DTSTART:20260529T163000Z
DTEND:20260529T170000Z
X-MICROSOFT-CDO-ALLDAYEVENT:FALSE
SUMMARY:The Ortho Spine Docs Ribbon Cutting
DESCRIPTION:Please join us as we welcome new chamber member\, The Ortho Spine Docs\,  The ribbon cutting will be held at 1055 Clarksville\, Ste 165\,  Paris Texas 75460. Please remember to bring your business cards for this networking opportunity.
X-ALT-DESC;FMTTYPE=text/html:<span style="color: rgb(51\, 51\, 51)\; font-family: sans-serif\, Arial\, Verdana\, &quot\;Trebuchet MS&quot\;\; font-size: 13px\; background-color: rgb(255\, 255\, 255)\;">Please join us as we welcome new chamber member\, The Ortho Spine Docs\,&nbsp\; The ribbon cutting will be held at 1055 Clarksville\, Ste 165\,&nbsp\; Paris Texas 75460. Please remember to bring your business cards for this networking opportunity.&nbsp\;</span>
LOCATION:1055 Clarksville\, Ste 165 Paris\, TX
UID:e.1675.20110
SEQUENCE:3
DTSTAMP:20260423T043312Z
URL:http://business.paristexas.com/events/details/the-ortho-spine-docs-ribbon-cutting-20110
END:VEVENT

END:VCALENDAR
