BEGIN:VCALENDAR
VERSION:2.0
PRODID:-//ChamberMaster//Event Calendar 2.0//EN
METHOD:PUBLISH
X-PUBLISHED-TTL:P3D
REFRESH-INTERVAL:P3D
CALSCALE:GREGORIAN
BEGIN:VEVENT
DTSTART:20251201T173000Z
DTEND:20251201T180000Z
X-MICROSOFT-CDO-ALLDAYEVENT:FALSE
SUMMARY:The Southern Squeeze Ribbon Cutting
DESCRIPTION:Join the Lamar Chamber of Commerce as we cut the ribbon for Chamber Member\, The Southern Squeeze\, and congratulate her on her new storefront!  The ribbon cutting will be held at the new location 1455 20th St NE.  Remember to bring your business card for this networking opportunity.
X-ALT-DESC;FMTTYPE=text/html:<span style="color: rgb(51\, 51\, 51)\; font-family: sans-serif\, Arial\, Verdana\, &quot\;Trebuchet MS&quot\;\; font-size: 13px\; background-color: rgb(255\, 255\, 255)\;">Join the Lamar Chamber of Commerce as we cut the ribbon for Chamber Member\, The Southern Squeeze\, and congratulate her on her new storefront!&nbsp\; The ribbon cutting will be held at the new location 1455 20th St NE.&nbsp\; Remember to bring your business card for this networking opportunity.&nbsp\;</span>
LOCATION:
UID:e.1675.19639
SEQUENCE:3
DTSTAMP:20260424T143920Z
URL:http://business.paristexas.com/events/details/the-southern-squeeze-ribbon-cutting-19639
END:VEVENT

END:VCALENDAR
