BEGIN:VCALENDAR
VERSION:2.0
PRODID:-//ChamberMaster//Event Calendar 2.0//EN
METHOD:PUBLISH
X-PUBLISHED-TTL:P3D
REFRESH-INTERVAL:P3D
CALSCALE:GREGORIAN
BEGIN:VEVENT
DTSTART:20260123T010000Z
DTEND:20260124T180000Z
X-MICROSOFT-CDO-ALLDAYEVENT:FALSE
SUMMARY:Tower City Comedy Festival
DESCRIPTION:75+ Comics. 16+ Shows and 3+ Days. \n\nPasses Available at Towercitycomedyfestival.com\n\nSponsors: Paris Chevrolet\, Circle H Dirt Work & Excavation\, State Farm Britney Thrash\, Quality Care ER\, Vin de Paris\, Stone Title Co. David House Jewelry\, South Main Iron\, Badge Caps\, Iron Bull\, American Towing & Recovery\, Visit Paris Texas\, Seay Pawn & Gun\, Scott's Collision Repair\, Paris Coffee Company\, Rent a Center\, Paris Brewing\, KS&G\, Olive Paris\, Sundae in Paris Glass Land & Home\, Paris Neighbor Magazine\, Taber Automotive\, East Texas Broadcasting\, 247 Mesa\, Paris Fitness & Aquatics\, Fairfield & Town Place Suites by Marriott.
X-ALT-DESC;FMTTYPE=text/html:75+ Comics. 16+ Shows and 3+ Days.&nbsp\;<br />\nPasses Available at Towercitycomedyfestival.com<br />\nSponsors: Paris Chevrolet\, Circle H Dirt Work &amp\; Excavation\, State Farm Britney Thrash\, Quality Care ER\, Vin de Paris\, Stone Title Co. David House Jewelry\, South Main Iron\, Badge Caps\, Iron Bull\, American Towing &amp\; Recovery\, Visit Paris Texas\, Seay Pawn &amp\; Gun\, Scott&#39\;s Collision Repair\, Paris Coffee Company\, Rent a Center\, Paris Brewing\, KS&amp\;G\, Olive Paris\, Sundae in Paris Glass Land &amp\; Home\, Paris Neighbor Magazine\, Taber Automotive\, East Texas Broadcasting\, 247 Mesa\, Paris Fitness &amp\; Aquatics\, Fairfield &amp\; Town Place Suites by Marriott.&nbsp\;&nbsp\;
LOCATION:
UID:e.1675.19669
SEQUENCE:3
DTSTAMP:20260424T131308Z
URL:http://business.paristexas.com/events/details/tower-city-comedy-festival-19669
END:VEVENT

END:VCALENDAR
