BEGIN:VCALENDAR
VERSION:2.0
PRODID:-//ChamberMaster//Event Calendar 2.0//EN
METHOD:PUBLISH
X-PUBLISHED-TTL:P3D
REFRESH-INTERVAL:P3D
CALSCALE:GREGORIAN
BEGIN:VEVENT
DTSTART:20260317T210000Z
DTEND:20260317T223000Z
X-MICROSOFT-CDO-ALLDAYEVENT:FALSE
SUMMARY:United Way of Lamar County's 2026 Kid's Marathon
DESCRIPTION:UNITED WAY OF LAMAR COUNTY'S 2026 KIDS MARATHON\n\n \n\n(PARIS\, Texas) -- The United Way of Lamar County's Kids Marathon will kick off on Tuesday\, March 17th from 4pm-5:30pm at the Trail de Paris (Love Civic Center entrance).\n\n \n\nAll kids in Lamar County in grades K-6th are invited to participate. The event is completely free and is sponsored by Farmers Bank\, Lamar National Bank\, ONCOR\, Quality Care ER\, Paris Regional Health\, Paris Orthopedics\, Brookshire's and the Prakash Family.\n\n \n\nRegister your child on Eventbrite at https://www.eventbrite.com/e/2026-kids-marathon-tickets-1982972345666?aff=oddtdtcreator\n\n \n\nAt the Kick Off on March 17th\, all participants will run the first mile of the marathon on the Trail de Paris and get their free t-shirt and running log. Over the next eight weeks\, they will log their miles.  The finale is on Tuesday\, May 5th 4pm-5:30pm at Trail de Paris (Love Civic Center entrance) and all the kids will run the last mile on the trail and receive their medal as they cross the finish line. CUTX Food Truck will be there with free hamburgers for everybody\n\n \n\nFor more information\, call the United Way of Lamar County office at 903-784-6642.
X-ALT-DESC;FMTTYPE=text/html:<strong>UNITED WAY OF LAMAR COUNTY&#39\;S 2026 KIDS MARATHON</strong><br />\n&nbsp\;<br />\n(PARIS\, Texas) -- The United Way of Lamar County&#39\;s Kids Marathon will kick off on Tuesday\, March 17th from 4pm-5:30pm at the Trail de Paris (Love Civic Center entrance).<br />\n&nbsp\;<br />\nAll kids in Lamar County in grades K-6th are invited to participate. The event is completely free&nbsp\;and is sponsored by Farmers Bank\, Lamar National Bank\, ONCOR\, Quality Care ER\, Paris Regional Health\, Paris Orthopedics\, Brookshire&#39\;s and the Prakash Family.<br />\n&nbsp\;<br />\nRegister your child on Eventbrite at <a href="https://www.eventbrite.com/e/2026-kids-marathon-tickets-1982972345666?aff=oddtdtcreator">https://www.eventbrite.com/e/2026-kids-marathon-tickets-1982972345666?aff=oddtdtcreator</a><br />\n&nbsp\;<br />\nAt the Kick Off on March 17th\, all participants will run the first mile of the marathon on the Trail de Paris and get their free t-shirt and running log. Over the next eight weeks\, they will log their miles.&nbsp\; The finale is on Tuesday\, May 5th 4pm-5:30pm at Trail de Paris (Love Civic&nbsp\;Center entrance) and all the kids will run the last mile on the trail and receive their medal as they cross the finish line. CUTX Food Truck will be there with free hamburgers for everybody<br />\n&nbsp\;<br />\nFor more information\, call the United Way of Lamar County office at 903-784-6642.
LOCATION:
UID:e.1675.19698
SEQUENCE:3
DTSTAMP:20260424T093015Z
URL:http://business.paristexas.com/events/details/united-way-of-lamar-county-s-2026-kid-s-marathon-19698
END:VEVENT

END:VCALENDAR
