BEGIN:VCALENDAR
VERSION:2.0
PRODID:-//ChamberMaster//Event Calendar 2.0//EN
METHOD:PUBLISH
X-PUBLISHED-TTL:P3D
REFRESH-INTERVAL:P3D
CALSCALE:GREGORIAN
BEGIN:VEVENT
DTSTART:20251213T170000Z
DTEND:20251213T180000Z
X-MICROSOFT-CDO-ALLDAYEVENT:FALSE
SUMMARY:Wreaths Across America Day at Evergreen Cemetery
DESCRIPTION:Arrive early to have time to park and find your spot before the ceremony begins at the outdoor chapel.  You will want to be settled when you hear the call:  "Pease rise for the Presentation of Colors and National Anthem" .  From this first moment \, the atmosphere is meant to be reverent\, reflective\, and respectful.  During the ceremony\, you will witness the presentation of the service wreaths for the Army\, Navy\, Marines\, Coast Guard\, Air Force\, and Space Force\, with additional wreaths recognizing the Merchant Marines and POW/MIA service members.  You will hear the hauntingly beautiful live performance of "Taps\," followed by "Echo Taps\," for which two buglers stand apart and play the notes in overlapping sequence\, creating a moving echo that fills the  cemetery with gratitude and remembrance. The wreaths will remain through January 10th\, serving as a visible reminder of honor during the holiday season. If you would like to be part of this mission\, you can sponsor a wreath by visiting www.wreathsacrossamerica.org/TX1559P.  you also have the option to purchase a grave-specific wreath\, allowing family members to place a wreath directly at their loved one's grave during the event.
X-ALT-DESC;FMTTYPE=text/html:Arrive early to have time to park and find your spot before the ceremony begins at the outdoor chapel.&nbsp\; You will want to be settled when you hear the call:&nbsp\; &quot\;Pease rise for the Presentation of Colors and National Anthem&quot\; .&nbsp\; From this first moment \, the atmosphere is meant to be reverent\, reflective\, and respectful.&nbsp\; During the ceremony\, you will witness the presentation of the service wreaths for the Army\, Navy\, Marines\, Coast Guard\, Air Force\, and Space Force\, with additional wreaths recognizing the Merchant Marines and POW/MIA service members.&nbsp\; You will hear the hauntingly beautiful live performance of &quot\;Taps\,&quot\; followed by &quot\;Echo Taps\,&quot\; for which two buglers stand apart and play the notes in overlapping sequence\, creating a moving echo that fills the&nbsp\; cemetery with gratitude and remembrance. The wreaths will remain through January 10th\, serving as a visible reminder of honor during the holiday season. If you would like to be part of this mission\, you can sponsor a wreath by visiting www.wreathsacrossamerica.org/TX1559P.&nbsp\; you also have the option to purchase a grave-specific wreath\, allowing family members to place a wreath directly at their loved one&#39\;s grave during the event.&nbsp\;
LOCATION:
UID:e.1675.19632
SEQUENCE:3
DTSTAMP:20260424T131312Z
URL:http://business.paristexas.com/events/details/wreaths-across-america-day-at-evergreen-cemetery-19632
END:VEVENT

END:VCALENDAR
