BEGIN:VCALENDAR
VERSION:2.0
PRODID:-//ChamberMaster//Event Calendar 2.0//EN
METHOD:PUBLISH
X-PUBLISHED-TTL:P3D
REFRESH-INTERVAL:P3D
CALSCALE:GREGORIAN
BEGIN:VEVENT
DTSTART:20201020T223000Z
DTEND:20201021T003000Z
X-MICROSOFT-CDO-ALLDAYEVENT:FALSE
SUMMARY:117th Annual Chamber Celebration Banquet
DESCRIPTION:Happy Hour\, food\, awards and background music.
X-ALT-DESC;FMTTYPE=text/html:Happy Hour\, food\, awards and background music.<br />\n&nbsp\;
LOCATION:Pavilion and parking lot located at the Love Civic Center.
UID:e.1675.16768
SEQUENCE:3
DTSTAMP:20260421T110530Z
URL:https://business.paristexas.com/events/details/117th-annual-chamber-celebration-banquet-16768
END:VEVENT

END:VCALENDAR
