BEGIN:VCALENDAR
VERSION:2.0
PRODID:-//ChamberMaster//Event Calendar 2.0//EN
METHOD:PUBLISH
X-PUBLISHED-TTL:P3D
REFRESH-INTERVAL:P3D
CALSCALE:GREGORIAN
BEGIN:VEVENT
DTSTART:20250213T173000Z
DTEND:20250213T190000Z
X-MICROSOFT-CDO-ALLDAYEVENT:FALSE
SUMMARY:1st Pitch - PJC/Chamber Membership Luncheon
DESCRIPTION:Get ready for the upcoming PJC Baseball & Softball Season with Men's Baseball Coach\, Clay Cox\, and Women's Softball Coach\, Shelby Shelton. \n\nDon't miss the Chamber Business Update on Small Business Effective Practices with Speaker\, John Bratcher. John is owner of 107 Restaurant\,  Paris\, Texas.
X-ALT-DESC;FMTTYPE=text/html:Get ready for the upcoming PJC Baseball &amp\; Softball Season with Men&#39\;s Baseball Coach\, Clay Cox\, and Women&#39\;s Softball Coach\, Shelby Shelton.&nbsp\;<br />\nDon&#39\;t miss the Chamber Business Update on Small Business Effective Practices with Speaker\, John Bratcher. John is owner of 107 Restaurant\,&nbsp\; Paris\, Texas.&nbsp\;<br />\n&nbsp\;
LOCATION:PJC Ballroom
UID:e.1675.19276
SEQUENCE:3
DTSTAMP:20260421T043522Z
URL:https://business.paristexas.com/events/details/1st-pitch-pjc-chamber-membership-luncheon-19276
END:VEVENT

END:VCALENDAR
