BEGIN:VCALENDAR
VERSION:2.0
PRODID:-//ChamberMaster//Event Calendar 2.0//EN
METHOD:PUBLISH
X-PUBLISHED-TTL:P3D
REFRESH-INTERVAL:P3D
CALSCALE:GREGORIAN
BEGIN:VEVENT
DTSTART:20220928T140000Z
DTEND:20221002T010000Z
X-MICROSOFT-CDO-ALLDAYEVENT:FALSE
SUMMARY:2022 Red River Valley Fair
DESCRIPTION:Main Stage Entertainment\, Crabtree Amusements\, Creataive Arts and Crafts\, Community Exhibits\, Commerciaql Exhibits\, Ponies & Pals Petting Zoo\, Food Concessions\, Livestock Shows\, Pumpkin Patch\, Home & Garden Showcase
X-ALT-DESC;FMTTYPE=text/html:Main Stage Entertainment\, Crabtree Amusements\, Creataive Arts and Crafts\, Community Exhibits\, Commerciaql Exhibits\, Ponies &amp\; Pals Petting Zoo\, Food Concessions\, Livestock Shows\, Pumpkin Patch\, Home &amp\; Garden Showcase
LOCATION:Paris - Lamar County Fairgrounds
UID:e.1675.17541
SEQUENCE:3
DTSTAMP:20260419T154748Z
URL:https://business.paristexas.com/events/details/2022-red-river-valley-fair-17541
END:VEVENT

END:VCALENDAR
