BEGIN:VCALENDAR
VERSION:2.0
PRODID:-//ChamberMaster//Event Calendar 2.0//EN
METHOD:PUBLISH
X-PUBLISHED-TTL:P3D
REFRESH-INTERVAL:P3D
CALSCALE:GREGORIAN
BEGIN:VEVENT
DTSTART:20220901T190000Z
DTEND:20220904T030000Z
X-MICROSOFT-CDO-ALLDAYEVENT:FALSE
SUMMARY:26th Annual Chaparral Square Dance Convention
DESCRIPTION:Square Dancing at Love Civic Center\, 2025 S. Collegiate Ave.\, Paris\, Tx. 75460.
X-ALT-DESC;FMTTYPE=text/html:Square Dancing at Love Civic Center\, 2025 S. Collegiate Ave.\, Paris\, Tx. 75460.
LOCATION:
UID:e.1675.17490
SEQUENCE:3
DTSTAMP:20260419T155236Z
URL:https://business.paristexas.com/events/details/26th-annual-chaparral-square-dance-convention-17490
END:VEVENT

END:VCALENDAR
