BEGIN:VCALENDAR
VERSION:2.0
PRODID:-//ChamberMaster//Event Calendar 2.0//EN
METHOD:PUBLISH
X-PUBLISHED-TTL:P3D
REFRESH-INTERVAL:P3D
CALSCALE:GREGORIAN
BEGIN:VEVENT
DTSTART:20210310T193000Z
DTEND:20210310T200000Z
X-MICROSOFT-CDO-ALLDAYEVENT:FALSE
SUMMARY:2Clean Ribbon Cutting
DESCRIPTION:Join the Lamar County Chamber of Commerce as we cut the Red Ribbon for New Chamber Member\, 2Clean and meet the owner Randi Moreland. Remember to bring your business cards for networking.  We will be wearing masks and social distancing.
X-ALT-DESC;FMTTYPE=text/html:<span style="color: rgb(51\, 51\, 51)\; font-family: Tahoma\, sans-serif\; font-size: 14.6667px\; background-color: rgb(255\, 255\, 255)\;">Join the Lamar County Chamber of Commerce as we cut the Red Ribbon for New Chamber Member\, <strong><u>2Clean</u></strong></span><span style="color: rgb(51\, 51\, 51)\; font-family: Tahoma\, sans-serif\; font-size: 14.6667px\; background-color: rgb(255\, 255\, 255)\;">&nbsp\;and meet the owner Randi Moreland. Remember to bring your business cards for networking.&nbsp\; We will be wearing masks and social distancing.&nbsp\;&nbsp\;</span>
LOCATION:Lamar County Chamber of Commerce 8 West Plaza
UID:e.1675.16825
SEQUENCE:3
DTSTAMP:20260421T223121Z
URL:https://business.paristexas.com/events/details/2clean-ribbon-cutting-16825
END:VEVENT

END:VCALENDAR
