BEGIN:VCALENDAR
VERSION:2.0
PRODID:-//ChamberMaster//Event Calendar 2.0//EN
METHOD:PUBLISH
X-PUBLISHED-TTL:P3D
REFRESH-INTERVAL:P3D
CALSCALE:GREGORIAN
BEGIN:VEVENT
DTSTART:20220917T223000Z
DTEND:20220918T040000Z
X-MICROSOFT-CDO-ALLDAYEVENT:FALSE
SUMMARY:2nd Annual Cowboy Up Classic at Rocket Raceway Park
DESCRIPTION:Grandstands: $20.00\n\nSenior - Military : $17.00\n\nYouth: Ages 6-12  - $8.00\n\n5 and Under Free\n\nCooler: $5.00\n\nPit Pass: $40.00\n\n3 and Under Free
X-ALT-DESC;FMTTYPE=text/html:Grandstands: $20.00<br />\nSenior - Military : $17.00<br />\nYouth: Ages 6-12&nbsp\; - $8.00<br />\n5 and Under Free<br />\nCooler: $5.00<br />\nPit Pass: $40.00<br />\n3 and Under Free
LOCATION:16369 US82 West\, Petty\, Texas 75470
UID:e.1675.17551
SEQUENCE:3
DTSTAMP:20260419T155444Z
URL:https://business.paristexas.com/events/details/2nd-annual-cowboy-up-classic-at-rocket-raceway-park-17551
END:VEVENT

END:VCALENDAR
