BEGIN:VCALENDAR
VERSION:2.0
PRODID:-//ChamberMaster//Event Calendar 2.0//EN
METHOD:PUBLISH
X-PUBLISHED-TTL:P3D
REFRESH-INTERVAL:P3D
CALSCALE:GREGORIAN
BEGIN:VEVENT
DTSTART:20260718T130000Z
DTEND:20260718T230000Z
X-MICROSOFT-CDO-ALLDAYEVENT:FALSE
SUMMARY:42nd Annual Tour de Paris Bicycle Rally
DESCRIPTION:Start and Finish at the Love Civic Center\, 2025 South Collegiate.\n\nRide the trail or your choice of routes in the county with many well manned and stocked rest stops.\n\nAfter you ride\, enjoy a hamburger\, smoothie and visiting inside the Love Civic Center.
X-ALT-DESC;FMTTYPE=text/html:Start and Finish at the Love Civic Center\, 2025 South Collegiate.<br />\nRide the trail or your choice of routes in the county with many well manned and stocked rest stops.<br />\nAfter you ride\, enjoy a hamburger\, smoothie and visiting inside the Love Civic Center.&nbsp\;
LOCATION:
UID:e.1675.19696
SEQUENCE:3
DTSTAMP:20260423T213427Z
URL:https://business.paristexas.com/events/details/42nd-annual-tour-de-paris-bicycle-rally-19696
END:VEVENT

END:VCALENDAR
