BEGIN:VCALENDAR
VERSION:2.0
PRODID:-//ChamberMaster//Event Calendar 2.0//EN
METHOD:PUBLISH
X-PUBLISHED-TTL:P3D
REFRESH-INTERVAL:P3D
CALSCALE:GREGORIAN
BEGIN:VEVENT
DTSTART:20210417T160000Z
DTEND:20210417T163000Z
X-MICROSOFT-CDO-ALLDAYEVENT:FALSE
SUMMARY:82 Lawn & Equipment Annual Open House and Ribbon Cutting
DESCRIPTION:Join the Lamar County Chamber of Commerce as we cut the Red Ribbon for 82 Lawn & Equipment and meet the new owners Scott and Jenny Redden.  Ribbon Cutting at 11:00 am.  Enjoy their Open House from 8:00 to 2:30 pm and sign up for giveaways. Remember to bring your business cards for networking.
X-ALT-DESC;FMTTYPE=text/html:<p>Join the Lamar County Chamber of Commerce as we cut the Red Ribbon for 82 Lawn &amp\; Equipment and meet the new owners Scott and Jenny Redden.&nbsp\; <span style="color:#FF0000\;">Ribbon Cutting at 11:00 am</span>. &nbsp\;Enjoy their Open House from 8:00 to 2:30 pm and sign up for giveaways. Remember to bring your business cards for networking.&nbsp\;</p>\n
LOCATION:3925 Hwy. 82 E\, Paris\, Tx. 75462
UID:e.1675.16856
SEQUENCE:3
DTSTAMP:20260421T223933Z
URL:https://business.paristexas.com/events/details/82-lawn-equipment-annual-open-house-and-ribbon-cutting-16856
END:VEVENT

END:VCALENDAR
