BEGIN:VCALENDAR
VERSION:2.0
PRODID:-//ChamberMaster//Event Calendar 2.0//EN
METHOD:PUBLISH
X-PUBLISHED-TTL:P3D
REFRESH-INTERVAL:P3D
CALSCALE:GREGORIAN
BEGIN:VEVENT
DTSTART:20250228T180000Z
DTEND:20250228T190000Z
X-MICROSOFT-CDO-ALLDAYEVENT:FALSE
SUMMARY:ABBS Wrap-up Meeting
DESCRIPTION:We are having a 2024 ABBS Wrap-up meeting\, Friday\, February 29\, 2025 at Love Civic Center at Noon.  BBQ sandwich will be provided with RSVP.\n\nPlease let me know if you can attend.  Your presence and input is important.
X-ALT-DESC;FMTTYPE=text/html:<span style="font-size:18px\;">We are having a 2024 ABBS Wrap-up meeting\, Friday\, February 29\, 2025 at Love Civic Center at Noon.&nbsp\; BBQ sandwich will be provided with RSVP.<br />\nPlease let me know if you can attend.&nbsp\; Your presence and input is important.&nbsp\;</span>
LOCATION:
UID:e.1675.19295
SEQUENCE:3
DTSTAMP:20260421T042157Z
URL:https://business.paristexas.com/events/details/abbs-wrap-up-meeting-19295
END:VEVENT

END:VCALENDAR
