BEGIN:VCALENDAR
VERSION:2.0
PRODID:-//ChamberMaster//Event Calendar 2.0//EN
METHOD:PUBLISH
X-PUBLISHED-TTL:P3D
REFRESH-INTERVAL:P3D
CALSCALE:GREGORIAN
BEGIN:VEVENT
DTSTART:20210429T210000Z
DTEND:20210429T213000Z
X-MICROSOFT-CDO-ALLDAYEVENT:FALSE
SUMMARY:Adult and Teen Challenge of Texas - Dream Center Ribbon Cutting
DESCRIPTION:Join the Lamar County Chamber of Commerce as we cut the Red Ribbon for Adult and Teen Challenge of Texas - Dream Center. We hope you can attend and learn about the program this organization offers.  Remember to bring your business cards for networking.  We encourage wearing masks and social distancing.
X-ALT-DESC;FMTTYPE=text/html:Join the Lamar County Chamber of Commerce as we cut the Red Ribbon for Adult and Teen Challenge of Texas - Dream Center. We hope you can attend and learn about the program this organization offers.&nbsp\; Remember to bring your business cards for networking.&nbsp\; We encourage wearing masks and social distancing.&nbsp\;
LOCATION:126 US Hwy 271 South Deport\, Tx. 75435
UID:e.1675.16860
SEQUENCE:3
DTSTAMP:20260422T004200Z
URL:https://business.paristexas.com/events/details/adult-and-teen-challenge-of-texas-dream-center-ribbon-cutting-16860
END:VEVENT

END:VCALENDAR
