BEGIN:VCALENDAR
VERSION:2.0
PRODID:-//ChamberMaster//Event Calendar 2.0//EN
METHOD:PUBLISH
X-PUBLISHED-TTL:P3D
REFRESH-INTERVAL:P3D
CALSCALE:GREGORIAN
BEGIN:VEVENT
DTSTART:20210323T170000Z
DTEND:20210323T180000Z
X-MICROSOFT-CDO-ALLDAYEVENT:FALSE
SUMMARY:Agriculture Committee Meeting - Date Change
DESCRIPTION:Agriculture Committee Meeting \n\nRescheduled due to lack of available attendance previous week.\n\nTuesday\, March 23rd at Noon\n\nLove Civic Center\n\nPlease RSVP to Judy at 903-784-2501 or email chamber@paristexas.com\n\nBarbecue sandwich for lunch.
X-ALT-DESC;FMTTYPE=text/html:<u><span style="font-size:16px\;"><strong>Agriculture Committee Meeting&nbsp\;</strong></span></u><br />\nRescheduled due to lack of available attendance previous week.<br />\nTuesday\, March 23rd at Noon<br />\nLove Civic Center<br />\nPlease RSVP to Judy at 903-784-2501 or email chamber@paristexas.com<br />\nBarbecue sandwich for lunch.
LOCATION:Love Civic Center\, 2025 S. Collegiate
UID:e.1675.16845
SEQUENCE:3
DTSTAMP:20260421T202943Z
URL:https://business.paristexas.com/events/details/agriculture-committee-meeting-date-change-16845
END:VEVENT

END:VCALENDAR
