BEGIN:VCALENDAR
VERSION:2.0
PRODID:-//ChamberMaster//Event Calendar 2.0//EN
METHOD:PUBLISH
X-PUBLISHED-TTL:P3D
REFRESH-INTERVAL:P3D
CALSCALE:GREGORIAN
BEGIN:VEVENT
DTSTART:20221013T163000Z
DTEND:20221013T170000Z
X-MICROSOFT-CDO-ALLDAYEVENT:FALSE
SUMMARY:Bluebonnett Montessori of Paris Ribbon Cutting
DESCRIPTION:Join the Lamar County Chamber of Commerce as we cut the Red Ribbon for the new Chamber Member\,  Bluebonnet Montessori of Paris and meet the owner\, Thera Chapman.  The address of this ribbon cutting is 3787 NW Loop 286 (old Boy Scouts of America building). Thera will have Chick-Fil-A refreshments for your pleasure.  Remember to bring your business card for this networking opportunity.
X-ALT-DESC;FMTTYPE=text/html:<span style="font-size:18px\;">Join the Lamar County Chamber of Commerce as we cut the Red Ribbon for the new Chamber Member\,&nbsp\;&nbsp\;<u>Bluebonnet Montessori of Paris</u> and meet the owner\, Thera Chapman.&nbsp\; The address of this ribbon cutting is 3787 NW Loop 286 (old Boy Scouts of America building). Thera will have Chick-Fil-A refreshments for your pleasure.&nbsp\; Remember to bring your business card for this networking opportunity.&nbsp\;</span>
LOCATION:
UID:e.1675.17562
SEQUENCE:3
DTSTAMP:20260419T161553Z
URL:https://business.paristexas.com/events/details/bluebonnett-montessori-of-paris-ribbon-cutting-17562
END:VEVENT

END:VCALENDAR
