BEGIN:VCALENDAR
VERSION:2.0
PRODID:-//ChamberMaster//Event Calendar 2.0//EN
METHOD:PUBLISH
X-PUBLISHED-TTL:P3D
REFRESH-INTERVAL:P3D
CALSCALE:GREGORIAN
BEGIN:VEVENT
DTSTART:20220913T133000Z
DTEND:20220913T143000Z
X-MICROSOFT-CDO-ALLDAYEVENT:FALSE
SUMMARY:Brewing Up Business LOCATION CHANGE
DESCRIPTION:Hosted by Signature Care.  There will be a guest speaker\, refreshments and door prizes.  Meeting is at Downtown Coffee\, 111 Lamar Avenue\, (two blocks off downtown Plaza).   Remember to bring your business cards for this networking opportunity.
X-ALT-DESC;FMTTYPE=text/html:Hosted by Signature Care.&nbsp\; There will be a guest speaker\, refreshments and door prizes.&nbsp\; Meeting is at Downtown Coffee\, 111 Lamar Avenue\, (two blocks off downtown Plaza).&nbsp\; &nbsp\;Remember to bring your business cards for this networking opportunity.
LOCATION:
UID:e.1675.17528
SEQUENCE:3
DTSTAMP:20260419T155205Z
URL:https://business.paristexas.com/events/details/brewing-up-business-location-change-17528
END:VEVENT

END:VCALENDAR
