BEGIN:VCALENDAR
VERSION:2.0
PRODID:-//ChamberMaster//Event Calendar 2.0//EN
METHOD:PUBLISH
X-PUBLISHED-TTL:P3D
REFRESH-INTERVAL:P3D
CALSCALE:GREGORIAN
BEGIN:VEVENT
DTSTART:20221020T221500Z
DTEND:20221021T000000Z
X-MICROSOFT-CDO-ALLDAYEVENT:FALSE
SUMMARY:Business After Hours at Lamar National Bank
DESCRIPTION:Join the Lamar County Chamber of Commerce as we gather for Business After Hours this month with our friends at Lamar National Bank. Come be with us and enjoy good food\, music\, fun and fellowship. Remember to bring your business card for this networking opportunity.  The address of Lamar National Bank is 200 South Collegiate Dr.\, Paris.
X-ALT-DESC;FMTTYPE=text/html:Join the Lamar County Chamber of Commerce as we gather for Business After Hours this month with our friends at Lamar National Bank. Come be with us and enjoy good food\, music\, fun and fellowship. Remember to bring your business card for this networking opportunity.&nbsp\; The address of Lamar National Bank is 200 South Collegiate Dr.\, Paris.&nbsp\;
LOCATION:
UID:e.1675.17336
SEQUENCE:3
DTSTAMP:20260419T180627Z
URL:https://business.paristexas.com/events/details/business-after-hours-at-lamar-national-bank-17336
END:VEVENT

END:VCALENDAR
