BEGIN:VCALENDAR
VERSION:2.0
PRODID:-//ChamberMaster//Event Calendar 2.0//EN
METHOD:PUBLISH
X-PUBLISHED-TTL:P3D
REFRESH-INTERVAL:P3D
CALSCALE:GREGORIAN
BEGIN:VEVENT
DTSTART:20220922T221500Z
DTEND:20220923T000000Z
X-MICROSOFT-CDO-ALLDAYEVENT:FALSE
SUMMARY:Business After Hours at Peoples Bank
DESCRIPTION:Join the Lamar County Chamber of Commerce as we celebrate this month's Business After Hours at Peoples Bank.  You will want to attend to enjoy good food\, music\, lots of fun\, door prizes and fellowship. Remember to bring your business cards for this networking opportunity. Address for Peoples Bank is 2805 Lamar Avenue\, Paris.
X-ALT-DESC;FMTTYPE=text/html:<span style="color: rgb(51\, 51\, 51)\; font-family: sans-serif\, Arial\, Verdana\, &quot\;Trebuchet MS&quot\;\; font-size: 13px\; background-color: rgb(255\, 255\, 255)\;">Join the Lamar County Chamber of Commerce as we celebrate this month&#39\;s Business After Hours at Peoples Bank.&nbsp\; You will want to attend to enjoy good food\, music\, lots of fun\, door prizes and fellowship.&nbsp\;Remember to bring your business cards for this networking opportunity. Address for Peoples Bank is 2805 Lamar Avenue\, Paris.&nbsp\;</span>
LOCATION:
UID:e.1675.17335
SEQUENCE:3
DTSTAMP:20260419T155610Z
URL:https://business.paristexas.com/events/details/business-after-hours-at-peoples-bank-17335
END:VEVENT

END:VCALENDAR
