BEGIN:VCALENDAR
VERSION:2.0
PRODID:-//ChamberMaster//Event Calendar 2.0//EN
METHOD:PUBLISH
X-PUBLISHED-TTL:P3D
REFRESH-INTERVAL:P3D
CALSCALE:GREGORIAN
BEGIN:VEVENT
DTSTART:20250227T231500Z
DTEND:20250228T010000Z
X-MICROSOFT-CDO-ALLDAYEVENT:FALSE
SUMMARY:Business After Hours - Paris Dermatology
DESCRIPTION:Join us for a fun networking event at Paris Dermatology.  We will share snacks and drinks and business cards.
X-ALT-DESC;FMTTYPE=text/html:Join us for a fun networking event at Paris Dermatology.&nbsp\; We will share snacks and drinks and business cards.<br />\n&nbsp\;
LOCATION:
UID:e.1675.19264
SEQUENCE:3
DTSTAMP:20260421T042715Z
URL:https://business.paristexas.com/events/details/business-after-hours-paris-dermatology-19264
END:VEVENT

END:VCALENDAR
