BEGIN:VCALENDAR
VERSION:2.0
PRODID:-//ChamberMaster//Event Calendar 2.0//EN
METHOD:PUBLISH
X-PUBLISHED-TTL:P3D
REFRESH-INTERVAL:P3D
CALSCALE:GREGORIAN
BEGIN:VEVENT
DTSTART:20250227T160000Z
DTEND:20250227T163000Z
X-MICROSOFT-CDO-ALLDAYEVENT:FALSE
SUMMARY:Casey's General Store Ribbon Cutting
DESCRIPTION:Join the Lamar Chamber of Commerce as we cut the ribbon for Casey's General Store.  Their location is 2610 N. Main\,  Remember to bring your business card for this networking opportunity.
X-ALT-DESC;FMTTYPE=text/html:<span style="color: rgb(51\, 51\, 51)\; font-family: sans-serif\, Arial\, Verdana\, &quot\;Trebuchet MS&quot\;\; font-size: 13px\; background-color: rgb(255\, 255\, 255)\;">Join the Lamar Chamber of Commerce as we cut the ribbon for Casey&#39\;s General Store.&nbsp\; Their location is 2610 N. Main\,&nbsp\; Remember to bring your business card for this networking opportunity.&nbsp\;</span>
LOCATION:
UID:e.1675.19286
SEQUENCE:3
DTSTAMP:20260421T042414Z
URL:https://business.paristexas.com/events/details/casey-s-general-store-ribbon-cutting-19286
END:VEVENT

END:VCALENDAR
