BEGIN:VCALENDAR
VERSION:2.0
PRODID:-//ChamberMaster//Event Calendar 2.0//EN
METHOD:PUBLISH
X-PUBLISHED-TTL:P3D
REFRESH-INTERVAL:P3D
CALSCALE:GREGORIAN
BEGIN:VEVENT
DTSTART:20210303T173000Z
DTEND:20210303T180000Z
X-MICROSOFT-CDO-ALLDAYEVENT:FALSE
SUMMARY:Correction - Lamar County Adopt-a-Cop Ribbon Cutting
DESCRIPTION:Address Correction -   This ribbon cutting will be at Reno City Hall\, 160 Blackburn Street\, Reno\, Tx. Please make this change on your calendar. \n\nJoin the Lamar County Chamber of Commerce as we cut the Red Ribbon for member\, Lamar County Adopt-a- Cop and learn about this organization.  Remember to bring your business cards for networking. We will be wearing face masks and social distancing. Please RSVP if you plan to attend.
X-ALT-DESC;FMTTYPE=text/html:<span style="color: rgb(51\, 51\, 51)\; font-family: sans-serif\, Arial\, Verdana\, &quot\;Trebuchet MS&quot\;\; font-size: 13px\; background-color: rgb(255\, 255\, 255)\;"><span style="font-size:16px\;"><u>Address Correction -&nbsp\; &nbsp\;This ribbon cutting will be at Reno City Hall\, 160 Blackburn Street\, Reno\, Tx. Please make this change on your calendar.&nbsp\;</u></span><br />\n<span style="font-size:16px\;">Join the Lamar County Chamber of Commerce as we cut the Red Ribbon for member\, Lamar County Adopt-a- Cop and learn about this organization.&nbsp\; Remember to bring your business cards for networking. We will be wearing face masks and social distancing. Please RSVP if you plan to attend.&nbsp\;</span></span>
LOCATION:6080 Post Oak Rd. Reno\, Tx. 75462
UID:e.1675.16820
SEQUENCE:3
DTSTAMP:20260421T202737Z
URL:https://business.paristexas.com/events/details/correction-lamar-county-adopt-a-cop-ribbon-cutting-16820
END:VEVENT

END:VCALENDAR
