BEGIN:VCALENDAR
VERSION:2.0
PRODID:-//ChamberMaster//Event Calendar 2.0//EN
METHOD:PUBLISH
X-PUBLISHED-TTL:P3D
REFRESH-INTERVAL:P3D
CALSCALE:GREGORIAN
BEGIN:VEVENT
DTSTART:20201111T170000Z
DTEND:20201111T180000Z
X-MICROSOFT-CDO-ALLDAYEVENT:FALSE
SUMMARY:Dedication Ceremony for Reno Historic African American Cemetery
DESCRIPTION:
X-ALT-DESC;FMTTYPE=text/html:
LOCATION:Located behind Ms Nita's Diner ( Parking @ Reno Tire)
UID:e.1675.16778
SEQUENCE:3
DTSTAMP:20260421T144112Z
URL:https://business.paristexas.com/events/details/dedication-ceremony-for-reno-historic-african-american-cemetery-16778
END:VEVENT

END:VCALENDAR
