BEGIN:VCALENDAR
VERSION:2.0
PRODID:-//ChamberMaster//Event Calendar 2.0//EN
METHOD:PUBLISH
X-PUBLISHED-TTL:P3D
REFRESH-INTERVAL:P3D
CALSCALE:GREGORIAN
BEGIN:VEVENT
DTSTART:20210331T163000Z
DTEND:20210331T170000Z
X-MICROSOFT-CDO-ALLDAYEVENT:FALSE
SUMMARY:Frontier Forestry Ribbon Cutting
DESCRIPTION:Join the Lamar County Chamber of Commerce as we cut the Red Ribbon for Chamber member\, Frontier Forestry and learn about this company.   Remember to bring your business cards for networking. We will be wearing face masks and social distancing.
X-ALT-DESC;FMTTYPE=text/html:<span style="color: rgb(51\, 51\, 51)\; font-family: sans-serif\, Arial\, Verdana\, &quot\;Trebuchet MS&quot\;\; font-size: 13px\; background-color: rgb(255\, 255\, 255)\;">Join the Lamar County Chamber of Commerce as we cut the Red Ribbon for Chamber member\, Frontier Forestry and learn about this company.&nbsp\; &nbsp\;Remember to bring your business cards for networking. We will be wearing face masks and social distancing.&nbsp\;&nbsp\;</span>
LOCATION:Lamar County Chamber of Commerce 8 West Plaza Paris\, Tx.
UID:e.1675.16831
SEQUENCE:3
DTSTAMP:20260421T202405Z
URL:https://business.paristexas.com/events/details/frontier-forestry-ribbon-cutting-16831
END:VEVENT

END:VCALENDAR
