BEGIN:VCALENDAR
VERSION:2.0
PRODID:-//ChamberMaster//Event Calendar 2.0//EN
METHOD:PUBLISH
X-PUBLISHED-TTL:P3D
REFRESH-INTERVAL:P3D
CALSCALE:GREGORIAN
BEGIN:VEVENT
DTSTART:20210311T193000Z
DTEND:20210311T200000Z
X-MICROSOFT-CDO-ALLDAYEVENT:FALSE
SUMMARY:Helping Hands Homecare Ribbon Cutting
DESCRIPTION:Join the Lamar County Chamber of Commerce as we cut the Red Ribbon for Chamber member Helping Hands Homecare. Meet owners Jamayle and Tia Ridley-Hill and learn what services they provide. Remember to bring your business cards for networking.  We will be wearing masks and social distancing.
X-ALT-DESC;FMTTYPE=text/html:<span style="color: rgb(51\, 51\, 51)\; font-family: sans-serif\, Arial\, Verdana\, &quot\;Trebuchet MS&quot\;\; font-size: 13px\; background-color: rgb(255\, 255\, 255)\;">Join the Lamar County Chamber of Commerce as we cut the Red Ribbon for Chamber member <strong><u>Helping Hands Homecare</u></strong>. Meet owners Jamayle and Tia Ridley-Hill and learn what services they provide.&nbsp\;</span><span style="color: rgb(51\, 51\, 51)\; font-family: sans-serif\, Arial\, Verdana\, &quot\;Trebuchet MS&quot\;\; font-size: 13px\; background-color: rgb(255\, 255\, 255)\;">Remember to bring your business cards for networking.&nbsp\; We will be wearing masks and social distancing.&nbsp\;</span>
LOCATION:1017 S. Collegiate\, Paris
UID:e.1675.16833
SEQUENCE:3
DTSTAMP:20260421T202707Z
URL:https://business.paristexas.com/events/details/helping-hands-homecare-ribbon-cutting-16833
END:VEVENT

END:VCALENDAR
