BEGIN:VCALENDAR
VERSION:2.0
PRODID:-//ChamberMaster//Event Calendar 2.0//EN
METHOD:PUBLISH
X-PUBLISHED-TTL:P3D
REFRESH-INTERVAL:P3D
CALSCALE:GREGORIAN
BEGIN:VEVENT
DTSTART:20210323T163000Z
DTEND:20210323T170000Z
X-MICROSOFT-CDO-ALLDAYEVENT:FALSE
SUMMARY:Inergroup Insourcing Solutions Ribbon Cutting
DESCRIPTION:Join the Lamar County Chamber of Commerce as we cut the Red Ribbon for Chamber member\, Inergroup Insourcing Solutions and learn about this company.   Remember to bring your business cards for networking. We will be wearing face masks and social distancing.
X-ALT-DESC;FMTTYPE=text/html:<span style="color: rgb(51\, 51\, 51)\; font-family: sans-serif\, Arial\, Verdana\, &quot\;Trebuchet MS&quot\;\; font-size: 13px\; background-color: rgb(255\, 255\, 255)\;">Join the Lamar County Chamber of Commerce as we cut the Red Ribbon for Chamber member\, Inergroup Insourcing Solutions and learn about this company.&nbsp\; &nbsp\;Remember to bring your business cards for networking. We will be wearing face masks and social distancing.&nbsp\;&nbsp\;</span>
LOCATION:707 Lamar Avenue\, Suite E\, Paris\, Tx.
UID:e.1675.16829
SEQUENCE:3
DTSTAMP:20260421T202738Z
URL:https://business.paristexas.com/events/details/inergroup-insourcing-solutions-ribbon-cutting-16829
END:VEVENT

END:VCALENDAR
