BEGIN:VCALENDAR
VERSION:2.0
PRODID:-//ChamberMaster//Event Calendar 2.0//EN
METHOD:PUBLISH
X-PUBLISHED-TTL:P3D
REFRESH-INTERVAL:P3D
CALSCALE:GREGORIAN
BEGIN:VEVENT
DTSTART:20210406T163000Z
DTEND:20210406T170000Z
X-MICROSOFT-CDO-ALLDAYEVENT:FALSE
SUMMARY:Jeremy Beshirs\, Agent - Texas Farm Bureau Ribbon Cutting
DESCRIPTION:Join the Lamar County Chamber of Commerce as we cut the Red Ribbon for  member Jeremy Beshirs\, Agent - Texas Farm Bureau.  Remember to bring your business cards for networking.  We will be wearing masks and social distancing.
X-ALT-DESC;FMTTYPE=text/html:Join the Lamar County Chamber of Commerce as we cut the Red Ribbon for&nbsp\; member <strong>Jeremy Beshirs\, Agent - Texas Farm Bureau</strong>.&nbsp\; Remember to bring your business cards for networking.&nbsp\; We will be wearing masks and social distancing.&nbsp\;
LOCATION:805 SW Loop 286\, Paris\, Tx.
UID:e.1675.16834
SEQUENCE:3
DTSTAMP:20260422T002616Z
URL:https://business.paristexas.com/events/details/jeremy-beshirs-agent-texas-farm-bureau-ribbon-cutting-16834
END:VEVENT

END:VCALENDAR
